BEGIN:VCALENDAR
VERSION:2.0
PRODID:-//Your Organization//EN
BEGIN:VEVENT
UID:69e770dbd6017@yourdomain.com
DTSTAMP:20260421T124307Z
DTSTART:20260425T200000
DTEND:20260426T000000
SUMMARY:Funkademia la Classica
DESCRIPTION:Brought to you by the people behind Manchester's longest running clubnight an early doors night of classic Funkademia tunes for discerning groovers. More info: https://www.skiddle.com/whats-on/Manchester/Withington-Public-Hall-And-Institute/Funkademia-la-Classica/42249346/
LOCATION:Withington Public Hall And Institute\, 2 Burton Road
END:VEVENT
END:VCALENDAR